BEGIN:VCALENDAR
VERSION:2.0
PRODID:-//wp-events-plugin.com//7.2.3.1//EN
TZID:Europe/Moscow
X-WR-TIMEZONE:Europe/Moscow
BEGIN:VEVENT
UID:270@shangin-travel.ru
DTSTART;TZID=Europe/Moscow:20250606T000000
DTEND;TZID=Europe/Moscow:20250616T235900
DTSTAMP:20250101T080316Z
URL:https://shangin-travel.ru/events/%d0%b0%d1%80%d1%85%d0%b8%d1%82%d0%b5%
 d0%ba%d1%82%d1%83%d1%80%d0%bd%d0%be-%d0%b8%d1%81%d1%82%d0%be%d1%80%d0%b8%d
 1%87%d0%b5%d1%81%d0%ba%d0%be%d0%b5-%d0%bf%d1%83%d1%82%d0%b5%d1%88%d0%b5%d1
 %81/
SUMMARY:Архитектурно – историческое путеше
 ствие ВОСТОЧНАЯ ГРУЗИЯ.
DESCRIPTION:
CATEGORIES:Зарубежные поездки
END:VEVENT
BEGIN:VTIMEZONE
TZID:Europe/Moscow
X-LIC-LOCATION:Europe/Moscow
BEGIN:STANDARD
DTSTART:20240606T000000
TZOFFSETFROM:+0300
TZOFFSETTO:+0300
TZNAME:MSK
END:STANDARD
END:VTIMEZONE
END:VCALENDAR