BEGIN:VCALENDAR
VERSION:2.0
PRODID:-//wp-events-plugin.com//7.2.3.1//EN
TZID:Europe/Moscow
X-WR-TIMEZONE:Europe/Moscow
BEGIN:VEVENT
UID:283@shangin-travel.ru
DTSTART;TZID=Europe/Moscow:20250531T074500
DTEND;TZID=Europe/Moscow:20250531T200000
DTSTAMP:20250406T130911Z
URL:https://shangin-travel.ru/events/%d0%b1%d0%be%d0%bb%d1%8c%d1%88%d0%b0%
 d1%8f-%d1%81%d0%bc%d0%be%d0%bb%d0%b5%d0%bd%d1%81%d0%ba%d0%b0%d1%8f-%d0%b4%
 d0%be%d1%80%d0%be%d0%b3%d0%b0-%d0%b4%d0%b2%d1%83%d1%85-%d0%bd%d0%b0%d1%88%
 d0%b5%d1%81/
SUMMARY:Большая Смоленская - дорога двух наш
 ествий. Автобусная экскурсия
DESCRIPTION:
CATEGORIES:Автобусные экскурсии
LOCATION:Автобус от м. Парк Победы (напротив Б
 ородинской панорамы)\, 9G7VPGQF+6G\, Москва\, Ро
 ссия
GEO:55.738063;37.523813
X-APPLE-STRUCTURED-LOCATION;VALUE=URI;X-ADDRESS=9G7VPGQF+6G\, Москва\
 , Россия;X-APPLE-RADIUS=100;X-TITLE=Автобус от м. Парк
  Победы (напротив Бородинской панорамы):g
 eo:55.738063,37.523813
END:VEVENT
BEGIN:VTIMEZONE
TZID:Europe/Moscow
X-LIC-LOCATION:Europe/Moscow
BEGIN:STANDARD
DTSTART:20240531T074500
TZOFFSETFROM:+0300
TZOFFSETTO:+0300
TZNAME:MSK
END:STANDARD
END:VTIMEZONE
END:VCALENDAR