BEGIN:VCALENDAR
VERSION:2.0
PRODID:-//wp-events-plugin.com//7.2.3.1//EN
TZID:Europe/Moscow
X-WR-TIMEZONE:Europe/Moscow
BEGIN:VEVENT
UID:267@shangin-travel.ru
DTSTART;TZID=Europe/Moscow:20240922T110000
DTEND;TZID=Europe/Moscow:20240922T143000
DTSTAMP:20240627T204626Z
URL:https://shangin-travel.ru/events/%d0%b1%d1%80%d0%be%d0%bd%d0%bd%d1%8b%
 d0%b5-%d1%83%d0%bb%d0%b8%d1%86%d1%8b-%d0%b8-%d0%bf%d0%b0%d1%82%d1%80%d0%b8
 %d0%b0%d1%80%d1%88%d0%b8%d0%b5-%d0%bf%d1%80%d1%83%d0%b4%d1%8b-%d0%be%d1%82
 -xvii-%d0%b4-23/
SUMMARY:Бронные улицы и Патриаршие пруды. От 
 XVII до XXI века. Пешеходная экскурсия
DESCRIPTION:Встречаемся в вестибюле общего вы
 хода из станций метро «Тверская» и «Пушк
 инская» напротив касс.
CATEGORIES:Пешеходные экскурсии
LOCATION:Метро Тверская/Пушкинская\, Метро Тв
 ерская\, Москва\, Россия
GEO:55.76534849999999;37.60498310000003
X-APPLE-STRUCTURED-LOCATION;VALUE=URI;X-ADDRESS=Метро Тверская
 \, Москва\, Россия;X-APPLE-RADIUS=100;X-TITLE=Метро Тв
 ерская/Пушкинская:geo:55.76534849999999,37.60498310000003
END:VEVENT
BEGIN:VTIMEZONE
TZID:Europe/Moscow
X-LIC-LOCATION:Europe/Moscow
BEGIN:STANDARD
DTSTART:20230923T110000
TZOFFSETFROM:+0300
TZOFFSETTO:+0300
TZNAME:MSK
END:STANDARD
END:VTIMEZONE
END:VCALENDAR