BEGIN:VCALENDAR
VERSION:2.0
PRODID:-//wp-events-plugin.com//7.2.3.1//EN
TZID:Europe/Moscow
X-WR-TIMEZONE:Europe/Moscow
BEGIN:VEVENT
UID:289@shangin-travel.ru
DTSTART;TZID=Europe/Moscow;VALUE=DATE:20260328
DTEND;TZID=Europe/Moscow;VALUE=DATE:20260330
DTSTAMP:20260209T073047Z
URL:https://shangin-travel.ru/events/%d0%b4%d0%b2%d1%83%d1%85%d0%b4%d0%bd%
 d0%b5%d0%b2%d0%bd%d0%be%d0%b5-%d0%b0%d1%80%d1%85%d0%b8%d1%82%d0%b5%d0%ba%d
 1%82%d1%83%d1%80%d0%bd%d0%be-%d0%b8%d1%81%d1%82%d0%be%d1%80%d0%b8%d1%87%d0
 %b5/
SUMMARY:Двухдневное архитектурно – историч
 еское путешествие: ЗИМНЯЯ СКАЗКА СЕВЕРН
 ОЙ ФИВАИДЫ (Вологда – Ферапонтово – Гор
 ицы – Кириллов– Вологда) 28.03-29.03.2026
DESCRIPTION:
END:VEVENT
BEGIN:VTIMEZONE
TZID:Europe/Moscow
X-LIC-LOCATION:Europe/Moscow
BEGIN:STANDARD
DTSTART:20250328T000000
TZOFFSETFROM:+0300
TZOFFSETTO:+0300
TZNAME:MSK
END:STANDARD
END:VTIMEZONE
END:VCALENDAR