BEGIN:VCALENDAR
VERSION:2.0
PRODID:-//wp-events-plugin.com//7.2.3.1//EN
TZID:Europe/Moscow
X-WR-TIMEZONE:Europe/Moscow
BEGIN:VEVENT
UID:277@shangin-travel.ru
DTSTART;TZID=Europe/Moscow:20250628T110000
DTEND;TZID=Europe/Moscow:20250628T140000
DTSTAMP:20250406T120411Z
URL:https://shangin-travel.ru/events/%d0%b7%d0%b0%d0%bc%d0%be%d1%81%d0%ba%
 d0%b2%d0%be%d1%80%d0%b5%d1%87%d1%8c%d0%b5-%d1%81%d1%86%d0%b5%d0%bd%d0%b0-%
 d0%b2-%d0%b0%d0%bc%d1%84%d0%b8%d1%82%d0%b5%d0%b0%d1%82%d1%80%d0%b5-%d0%ba%
 d1%80%d0%b5-24/
SUMMARY:Замоскворечье. Сцена в амфитеатре Кр
 емля. Пешеходная экскурсия
DESCRIPTION:
ATTACH;FMTTYPE=image/jpeg:https://shangin-travel.ru/wp-content/uploads/202
 5/04/Архитектурная-прогулка-по-ЗАМОСКВОРЕ
 ЧЬЮ.-Маршрут-№123-scaled.jpg
CATEGORIES:Пешеходные экскурсии
LOCATION:Выход из м. Полянка\, Метро Полянка\, 
 Москва\, Россия
GEO:55.73683;37.618642499999964
X-APPLE-STRUCTURED-LOCATION;VALUE=URI;X-ADDRESS=Метро Полянка\,
  Москва\, Россия;X-APPLE-RADIUS=100;X-TITLE=Выход из м
 . Полянка:geo:55.73683,37.618642499999964
END:VEVENT
BEGIN:VTIMEZONE
TZID:Europe/Moscow
X-LIC-LOCATION:Europe/Moscow
BEGIN:STANDARD
DTSTART:20240628T110000
TZOFFSETFROM:+0300
TZOFFSETTO:+0300
TZNAME:MSK
END:STANDARD
END:VTIMEZONE
END:VCALENDAR