BEGIN:VCALENDAR
VERSION:2.0
PRODID:-//wp-events-plugin.com//7.2.3.1//EN
TZID:Europe/Moscow
X-WR-TIMEZONE:Europe/Moscow
BEGIN:VEVENT
UID:265@shangin-travel.ru
DTSTART;TZID=Europe/Moscow:20240921T075000
DTEND;TZID=Europe/Moscow:20240921T200000
DTSTAMP:20240627T204430Z
URL:https://shangin-travel.ru/events/%d0%b8%d1%82%d0%b0%d0%bb%d1%8c%d1%8f%
 d0%bd%d1%81%d0%ba%d0%b8%d0%b5-%d0%bc%d0%be%d1%82%d0%b8%d0%b2%d1%8b-%d0%bf%
 d0%be%d0%b4%d0%bc%d0%be%d1%81%d0%ba%d0%be%d0%b2%d1%8c%d1%8f-%d1%81%d0%b5%d
 1%80%d0%bf-4/
SUMMARY:Итальянские мотивы Подмосковья (Сер
 пухов и окрестности). Автобусная экскурс
 ия.
DESCRIPTION:Поскольку данная экскурсия органи
 зуется нами совместно с турбюро "Вокруг 
 света"\, просим записаться на нее также и 
 на сайте www.vs-travel.ru\, или по почте ovmarina@vs-trav
 el.ru. При записи просим в примечаниях указ
 ывать\, что Вы обращаетесь в данное турбю
 ро по рекомендации Н. Шангина.\n\nОплата о
 существляется турбюро "Вокруг света".
CATEGORIES:Автобусные экскурсии
LOCATION:Выход из метро Спортивная к СК Лужни
 ки\, м. Спортивная\, Москва\, Россия
GEO:55.723389;37.56427
X-APPLE-STRUCTURED-LOCATION;VALUE=URI;X-ADDRESS=м. Спортивная\, 
 Москва\, Россия;X-APPLE-RADIUS=100;X-TITLE=Выход из м
 етро Спортивная к СК Лужники:geo:55.723389,37.5642
 7
END:VEVENT
BEGIN:VTIMEZONE
TZID:Europe/Moscow
X-LIC-LOCATION:Europe/Moscow
BEGIN:STANDARD
DTSTART:20230922T075000
TZOFFSETFROM:+0300
TZOFFSETTO:+0300
TZNAME:MSK
END:STANDARD
END:VTIMEZONE
END:VCALENDAR