BEGIN:VCALENDAR
VERSION:2.0
PRODID:-//wp-events-plugin.com//7.2.3.1//EN
TZID:Europe/Moscow
X-WR-TIMEZONE:Europe/Moscow
BEGIN:VEVENT
UID:281@shangin-travel.ru
DTSTART;TZID=Europe/Moscow:20250524T074500
DTEND;TZID=Europe/Moscow:20250524T220000
DTSTAMP:20250406T123830Z
URL:https://shangin-travel.ru/events/%d0%b8%d1%82%d0%b0%d0%bb%d1%8c%d1%8f%
 d0%bd%d1%81%d0%ba%d0%b8%d0%b5-%d0%bc%d0%be%d1%82%d0%b8%d0%b2%d1%8b-%d0%bf%
 d0%be%d0%b4%d0%bc%d0%be%d1%81%d0%ba%d0%be%d0%b2%d1%8c%d1%8f-%d1%81%d0%b5%d
 1%80%d0%bf-6/
SUMMARY:Итальянские мотивы Подмосковья (Сер
 пухов и окрестности). Автобусная экскурс
 ия.
DESCRIPTION:
CATEGORIES:Автобусные экскурсии
LOCATION:Выход из метро Спортивная к СК Лужни
 ки\, м. Спортивная\, Москва\, Россия
GEO:55.723389;37.56427
X-APPLE-STRUCTURED-LOCATION;VALUE=URI;X-ADDRESS=м. Спортивная\, 
 Москва\, Россия;X-APPLE-RADIUS=100;X-TITLE=Выход из м
 етро Спортивная к СК Лужники:geo:55.723389,37.5642
 7
END:VEVENT
BEGIN:VTIMEZONE
TZID:Europe/Moscow
X-LIC-LOCATION:Europe/Moscow
BEGIN:STANDARD
DTSTART:20240524T074500
TZOFFSETFROM:+0300
TZOFFSETTO:+0300
TZNAME:MSK
END:STANDARD
END:VTIMEZONE
END:VCALENDAR