BEGIN:VCALENDAR
VERSION:2.0
PRODID:-//wp-events-plugin.com//7.2.3.1//EN
TZID:Europe/Moscow
X-WR-TIMEZONE:Europe/Moscow
BEGIN:VEVENT
UID:286@shangin-travel.ru
DTSTART;TZID=Europe/Moscow:20250629T110000
DTEND;TZID=Europe/Moscow:20250629T140000
DTSTAMP:20260123T184403Z
URL:https://shangin-travel.ru/events/%d0%ba%d0%b8%d1%82%d0%b0%d0%b9-%d0%b3
 %d0%be%d1%80%d0%be%d0%b4-%d1%81%d0%b8%d1%82%d0%b8-%d1%81%d1%82%d0%b0%d1%80
 %d0%be%d0%b9-%d0%bc%d0%be%d1%81%d0%ba%d0%b2%d1%8b-%d0%bf%d0%b5%d1%88%d0%b5
 -18/
SUMMARY:Китай-город – Сити старой Москвы. Пе
 шеходная экскурсия
DESCRIPTION:
ATTACH;FMTTYPE=image/jpeg:https://shangin-travel.ru/wp-content/uploads/202
 5/04/Архитектурная-прогулка-по-КИТАЙ-ГОРО
 У.jpg
CATEGORIES:Пешеходные экскурсии
LOCATION:Общий выход из м. Площадь Революции 
 и Театральная\, 55.756623\, 37.619596\, Москва\, Рос
 сия
GEO:55.756806;37.620453
X-APPLE-STRUCTURED-LOCATION;VALUE=URI;X-ADDRESS=55.756623\, 37.619596\, М
 осква\, Россия;X-APPLE-RADIUS=100;X-TITLE=Общий выход
  из м. Площадь Революции и Театральная:geo:
 55.756806,37.620453
END:VEVENT
BEGIN:VTIMEZONE
TZID:Europe/Moscow
X-LIC-LOCATION:Europe/Moscow
BEGIN:STANDARD
DTSTART:20240629T110000
TZOFFSETFROM:+0300
TZOFFSETTO:+0300
TZNAME:MSK
END:STANDARD
END:VTIMEZONE
END:VCALENDAR