BEGIN:VCALENDAR
VERSION:2.0
PRODID:-//wp-events-plugin.com//7.2.3.1//EN
TZID:Europe/Moscow
X-WR-TIMEZONE:Europe/Moscow
BEGIN:VEVENT
UID:261@shangin-travel.ru
DTSTART;TZID=Europe/Moscow:20240901T110000
DTEND;TZID=Europe/Moscow:20240901T143000
DTSTAMP:20240627T203900Z
URL:https://shangin-travel.ru/events/%d0%bd%d0%b0%d0%bf%d1%80%d0%be%d1%82%
 d0%b8%d0%b2-%d0%ba%d1%80%d0%b5%d0%bc%d0%bb%d1%8f-%d0%be%d1%82-%d0%bc%d0%b5
 %d1%82%d1%80%d0%be-%d0%ba%d1%80%d0%be%d0%bf%d0%be%d1%82%d0%ba%d0%b8%d0%bd%
 d1%81-18/
SUMMARY:НАПРОТИВ КРЕМЛЯ. От метро «Кропоткин
 ская» до метро «Новокузнецкая»
DESCRIPTION:Встречаемся у выхода из метро «Кр
 опоткинская» на Гоголевский бульвар под
  аркой.
CATEGORIES:Пешеходные экскурсии
LOCATION:Выход из м. Кропоткинская в сторону 
 Гоголевского бульвара\, Гоголевский бул
 ьвар\, 1\, Мосвка\, Россия
GEO:55.74471519999999;37.60185810000007
X-APPLE-STRUCTURED-LOCATION;VALUE=URI;X-ADDRESS=Гоголевский бу
 львар\, 1\, Мосвка\, Россия;X-APPLE-RADIUS=100;X-TITLE=В
 ыход из м. Кропоткинская в сторону Гогол
 евского бульвара:geo:55.74471519999999,37.60185810000007
END:VEVENT
BEGIN:VTIMEZONE
TZID:Europe/Moscow
X-LIC-LOCATION:Europe/Moscow
BEGIN:STANDARD
DTSTART:20230902T110000
TZOFFSETFROM:+0300
TZOFFSETTO:+0300
TZNAME:MSK
END:STANDARD
END:VTIMEZONE
END:VCALENDAR