BEGIN:VCALENDAR
VERSION:2.0
PRODID:-//wp-events-plugin.com//7.2.3.1//EN
TZID:Europe/Moscow
X-WR-TIMEZONE:Europe/Moscow
BEGIN:VEVENT
UID:273@shangin-travel.ru
DTSTART;TZID=Europe/Moscow:20250413T110000
DTEND;TZID=Europe/Moscow:20250413T140000
DTSTAMP:20250406T113807Z
URL:https://shangin-travel.ru/events/%d0%bd%d0%b0%d0%bf%d1%80%d0%be%d1%82%
 d0%b8%d0%b2-%d0%ba%d1%80%d0%b5%d0%bc%d0%bb%d1%8f-%d0%be%d1%82-%d0%bc%d0%b5
 %d1%82%d1%80%d0%be-%d0%bd%d0%be%d0%b2%d0%be%d0%ba%d1%83%d0%b7%d0%bd%d0%b5%
 d1%86/
SUMMARY:НАПРОТИВ КРЕМЛЯ. От метро «Новокузне
 цкая» до метро «Кропоткинская»
DESCRIPTION:
ATTACH;FMTTYPE=image/jpeg:https://shangin-travel.ru/wp-content/uploads/202
 5/04/IMG_20181112_163635-1024x467-1.jpg
CATEGORIES:Пешеходные экскурсии
LOCATION:Выход из станции метро «Новокузнецк
 ая»\, м Новокузнецкая\, Новокузнецкая\, Ро
 ссия
GEO:55.742376;37.628871
X-APPLE-STRUCTURED-LOCATION;VALUE=URI;X-ADDRESS=м Новокузнецка
 я\, Новокузнецкая\, Россия;X-APPLE-RADIUS=100;X-TITLE=
 Выход из станции метро «Новокузнецкая»:g
 eo:55.742376,37.628871
END:VEVENT
BEGIN:VTIMEZONE
TZID:Europe/Moscow
X-LIC-LOCATION:Europe/Moscow
BEGIN:STANDARD
DTSTART:20240413T110000
TZOFFSETFROM:+0300
TZOFFSETTO:+0300
TZNAME:MSK
END:STANDARD
END:VTIMEZONE
END:VCALENDAR