BEGIN:VCALENDAR
VERSION:2.0
PRODID:-//wp-events-plugin.com//7.2.3.1//EN
TZID:Europe/Moscow
X-WR-TIMEZONE:Europe/Moscow
BEGIN:VEVENT
UID:263@shangin-travel.ru
DTSTART;TZID=Europe/Moscow:20240908T110000
DTEND;TZID=Europe/Moscow:20240908T140000
DTSTAMP:20240627T204211Z
URL:https://shangin-travel.ru/events/%d0%bd%d0%b0-%d0%b2%d0%be%d1%81%d1%82
 %d0%be%d1%87%d0%bd%d0%be%d0%b9-%d0%be%d0%ba%d1%80%d0%b0%d0%b8%d0%bd%d0%b5-
 %d1%81%d1%82%d0%b0%d1%80%d0%be%d0%b9-%d0%bc%d0%be%d1%81%d0%ba%d0%b2%d1%8b-
 %d1%80%d0%be-3/
SUMMARY:НА ВОСТОЧНОЙ ОКРАИНЕ СТАРОЙ МОСКВЫ. 
 Рогожская ямская слобода и Спасо-Андрон
 ников монастырь.
DESCRIPTION:Встречаемся в подземном переходе 
 у выхода из станции метро Площадь Ильича
 .
CATEGORIES:Пешеходные экскурсии
LOCATION:метро Площадь Ильича\, метро Площадь
  Ильича\, Москва\, Россия
GEO:55.747211;37.679931
X-APPLE-STRUCTURED-LOCATION;VALUE=URI;X-ADDRESS=метро Площадь 
 Ильича\, Москва\, Россия;X-APPLE-RADIUS=100;X-TITLE=ме
 тро Площадь Ильича:geo:55.747211,37.679931
END:VEVENT
BEGIN:VTIMEZONE
TZID:Europe/Moscow
X-LIC-LOCATION:Europe/Moscow
BEGIN:STANDARD
DTSTART:20230909T110000
TZOFFSETFROM:+0300
TZOFFSETTO:+0300
TZNAME:MSK
END:STANDARD
END:VTIMEZONE
END:VCALENDAR