BEGIN:VCALENDAR
VERSION:2.0
PRODID:-//wp-events-plugin.com//7.2.3.1//EN
TZID:Europe/Moscow
X-WR-TIMEZONE:Europe/Moscow
BEGIN:VEVENT
UID:262@shangin-travel.ru
DTSTART;TZID=Europe/Moscow:20240907T073000
DTEND;TZID=Europe/Moscow:20240907T223000
DTSTAMP:20240627T204030Z
URL:https://shangin-travel.ru/events/%d1%83%d0%b3%d0%bb%d0%b8%d1%87-%d0%b8
 -%d0%b1%d0%be%d1%80%d0%b8%d1%81%d0%be%d0%b3%d0%bb%d0%b5%d0%b1%d1%81%d0%ba%
 d0%b8%d0%b9-%d0%bc%d0%be%d0%bd%d0%b0%d1%81%d1%82%d1%8b%d1%80%d1%8c-%d0%b0%
 d0%b2%d1%82-4/
SUMMARY:УГЛИЧ И БОРИСОГЛЕБСКИЙ МОНАСТЫРЬ. Ав
 тобусная экскурсия
DESCRIPTION:За доп. плату обед в кафе города. Ст
 оимость 600 руб. Оплачивается вместе с пут
 ёвкой.
CATEGORIES:Автобусные экскурсии
LOCATION:Автобус от гостиницы Космос\, 9G7VRJCW+P5\
 , Москва\, Россия
GEO:55.821813;37.645438
X-APPLE-STRUCTURED-LOCATION;VALUE=URI;X-ADDRESS=9G7VRJCW+P5\, Москва\
 , Россия;X-APPLE-RADIUS=100;X-TITLE=Автобус от гостин
 ицы Космос:geo:55.821813,37.645438
END:VEVENT
BEGIN:VTIMEZONE
TZID:Europe/Moscow
X-LIC-LOCATION:Europe/Moscow
BEGIN:STANDARD
DTSTART:20230908T073000
TZOFFSETFROM:+0300
TZOFFSETTO:+0300
TZNAME:MSK
END:STANDARD
END:VTIMEZONE
END:VCALENDAR