BEGIN:VCALENDAR
VERSION:2.0
PRODID:-//wp-events-plugin.com//7.2.3.1//EN
TZID:Europe/Moscow
X-WR-TIMEZONE:Europe/Moscow
BEGIN:VEVENT
UID:288@shangin-travel.ru
DTSTART;TZID=Europe/Moscow;VALUE=DATE:20260706
DTEND;TZID=Europe/Moscow;VALUE=DATE:20260719
DTSTAMP:20260129T144823Z
URL:https://shangin-travel.ru/events/%d1%86%d0%b5%d0%bd%d1%82%d1%80%d0%b0%
 d0%bb%d1%8c%d0%bd%d0%b0%d1%8f-%d0%b8-%d0%b7%d0%b0%d0%bf%d0%b0%d0%b4%d0%bd%
 d0%b0%d1%8f-%d0%b3%d1%80%d1%83%d0%b7%d0%b8%d1%8f-%d0%b0%d1%80%d1%85%d0%b8%
 d1%82%d0%b5/
SUMMARY:ЦЕНТРАЛЬНАЯ И ЗАПАДНАЯ ГРУЗИЯ (Архит
 ектурно-историческое путешествие 06.07 – 1
 8.07. 2026)
DESCRIPTION:
CATEGORIES:Зарубежные поездки
LOCATION:Гостевой дом "Ани"\, Садовое товарище
 ство "Дружба"\, 61/1\, Владикавказ\, 362048\, Рос
 сия
GEO:43.057832;44.652432
X-APPLE-STRUCTURED-LOCATION;VALUE=URI;X-ADDRESS=Садовое товари
 щество \"Дружба\"\, 61/1\, Владикавказ\, 362048\, 
 Россия;X-APPLE-RADIUS=100;X-TITLE=Гостевой дом \"Ани\"
 :geo:43.057832,44.652432
END:VEVENT
BEGIN:VTIMEZONE
TZID:Europe/Moscow
X-LIC-LOCATION:Europe/Moscow
BEGIN:STANDARD
DTSTART:20250706T000000
TZOFFSETFROM:+0300
TZOFFSETTO:+0300
TZNAME:MSK
END:STANDARD
END:VTIMEZONE
END:VCALENDAR